BEGIN:VCALENDAR
VERSION:2.0
PRODID:-//Cub Pack 110 - ECPv6.8.2.1//NONSGML v1.0//EN
CALSCALE:GREGORIAN
METHOD:PUBLISH
X-WR-CALNAME:Cub Pack 110
X-ORIGINAL-URL:http://staging.cubpack110.com
X-WR-CALDESC:Events for Cub Pack 110
REFRESH-INTERVAL;VALUE=DURATION:PT1H
X-Robots-Tag:noindex
X-PUBLISHED-TTL:PT1H
BEGIN:VTIMEZONE
TZID:America/New_York
BEGIN:DAYLIGHT
TZOFFSETFROM:-0500
TZOFFSETTO:-0400
TZNAME:EDT
DTSTART:20170312T070000
END:DAYLIGHT
BEGIN:STANDARD
TZOFFSETFROM:-0400
TZOFFSETTO:-0500
TZNAME:EST
DTSTART:20171105T060000
END:STANDARD
END:VTIMEZONE
BEGIN:VEVENT
DTSTART;TZID=America/New_York:20170603T150000
DTEND;TZID=America/New_York:20170604T110000
DTSTAMP:20260421T200134
CREATED:20170420T213010Z
LAST-MODIFIED:20170601T010038Z
UID:3202-1496502000-1496574000@staging.cubpack110.com
SUMMARY:2017 Family Camping Finale
DESCRIPTION:All Pack 110 families are invited to attend our rescheduled rocket launch and final camping event before the summer.  \nOur Cub Scouts are currently building rockets that we expect will be launched several hundred feet into the air.  All of the rockets have streamers to ensure their safe return.  Please join us and your children can help us retrieve the rockets once they return to earth. \nAfter the launch\, we will move over the the BVA for our final Pack campout of the 2016/2017 Scouting year (drive past the barn and gazebo\, up the dirt road to the top of the hill). This is a great opportunity to explore nature and have some fun outdoors.  \nPlease contact Ed Loeffler or RSVP below if you plan on attending.\nEmail: yedleff@nullyahoo.com\nPhone: 610.719.8452 (home) / 610.662.4610 (cell)\nAddress: 520 N. New Street\, West Chester Pa\, 19380 \n\n\nRSVP Online \n\n\nCamp Out Packing List
URL:http://staging.cubpack110.com/event/2017-family-camping-finale/
LOCATION:Brandywine Red Clay Alliance\, 1760 Unionville Wawaset Rd\, West Chester\, PA\, 19382\, United States
CATEGORIES:Pack Events
ATTACH;FMTTYPE=image/jpeg:http://staging.cubpack110.com/wp-content/uploads/2017/04/postImage_2017-April-Pack-Meeting.jpg
END:VEVENT
BEGIN:VEVENT
DTSTART;TZID=America/New_York:20170520T110000
DTEND;TZID=America/New_York:20170521T090000
DTSTAMP:20260421T200134
CREATED:20170501T132038Z
LAST-MODIFIED:20170501T133443Z
UID:3224-1495278000-1495357200@staging.cubpack110.com
SUMMARY:Cub Scout Family Weekend
DESCRIPTION:Blast Into Adventure!\nThe whole family is invited to a fun-filled outdoor adventure.  After an afternoon of activities\, dinner and a campfire\, families are invited to campout.  Bring your own tent to sleep under the stars then stay for breakfast the next morning as well as more activities.  Scouts can also bring a friend that is not registered in Cub Scouts\, increasing the fun! \nActivities include shooting BB guns\, archery\, bouldering wall\, paintball slingshot range\, arts and crafts\, sports\, games\, leatherworking and much\, much more.  The whole family will experience the exhilaration of these activities.  \nThis overnight experience meets the overnight camping requirement of all ranks. \nArrive around 11 a.m. Saturday morning to set up your campsite.  Lunch is not provided on Saturday so please eat prior to coming or bring something with you.  The price remains the same regardless of whether you stay overnight or not. \nThis is a great opportunity to “try before you buy” – check out camp Ware tor see what a great summer camp opportunity it provides. \nCancellation Policy\nContact camping@nullcccbsa.org for cancellation policy.
URL:http://staging.cubpack110.com/event/cub-scout-family-weekend/
LOCATION:Camp Ware\,  239 Jubilee Rd\, Peach Bottom\, PA\, 17563\, United States
CATEGORIES:Council Event
ATTACH;FMTTYPE=image/jpeg:http://staging.cubpack110.com/wp-content/uploads/2017/05/postImage-CS-family-Weekend.jpg
ORGANIZER;CN="Chester County Council Camping":MAILTO:camping@cccbsa.org
END:VEVENT
BEGIN:VEVENT
DTSTART;TZID=America/New_York:20170513T150000
DTEND;TZID=America/New_York:20170513T150000
DTSTAMP:20260421T200134
CREATED:20170420T214143Z
LAST-MODIFIED:20170511T011630Z
UID:3207-1494687600-1494687600@staging.cubpack110.com
SUMMARY:Rocket Launch\, Cookout\, Advancement Ceremony & Campout
DESCRIPTION:Unfortunately\, due to the weather forecast\, the rocket launch has been postponed (date TBD) and the campout cancelled.  We will still be having the Final Pack Meeting & Awards Ceremony with a Pizza Party beforehand in place of the cookout.   \n\n\nIf interested\, please use the RSVP button below or email Dawn Kriebel (Committee Chair) at dkkriebel@nullgmail.com or Josh Comolli (Cubmaster) at josh@nullholycomolli.com and let them know which activities you will be attending: \n\nRocket Launch\n5:30PM Cook Out Pizza Party\n6:00PM Award Ceremony\nCamp Out\n\n\n\nPizza Party RSVP\nBuy Your Rocket\n\n\n\nOur cub scouts are currently building rockets that we expect will be launched several hundred feet into the air.  All of the rockets have streamers to ensure their safe return.  Please join us and your children can help us retrieve the rockets once they return to earth. \nAfter the launch\, we will move over the the BVA for a Pack cookout Pizza Party followed by our year-end graduation ceremony where the boys will receive any awards earned and their new neckerchiefs for the next scouting year. This is our last Pack Meeting of the year so you will not want to miss it. \nPlease feel free to join us for any or all of the day’s events. \nNot a Cub Scout yet?\nThis is a great opportunity to come see what it’s all about. Bring your own rocket to launch or just come out to watch the show. Stay for dinner and s’mores! \nMany families will also be camping out overnight. If interested\, please bring your own tent. Please feel free to join us for all or only some of the activities. \nWant to invite a friend?\nThis is a great opportunity for any family interested in learning more about Cub Scouts to come out and see what Pack 110 is all about. Please feel free to bring them along and send them our Rocket Launch Flyer for more information. Any scout that brings a friend will get a special prize!
URL:http://staging.cubpack110.com/event/rocket-launch-cookout-advancement-ceremony-campout/
LOCATION:Brandywine Red Clay Alliance\, 1760 Unionville Wawaset Rd\, West Chester\, PA\, 19382\, United States
CATEGORIES:Pack Events
ATTACH;FMTTYPE=image/jpeg:http://staging.cubpack110.com/wp-content/uploads/2015/05/postImage_2014_RocketLaunch-1.jpg
ORGANIZER;CN="Josh Comolli":MAILTO:cubmaster@cubpack110.com
END:VEVENT
BEGIN:VEVENT
DTSTART;TZID=America/New_York:20170422T140000
DTEND;TZID=America/New_York:20170423T100000
DTSTAMP:20260421T200135
CREATED:20170331T160733Z
LAST-MODIFIED:20170411T153739Z
UID:3147-1492869600-1492941600@staging.cubpack110.com
SUMMARY:Spring Family Camping at KOA
DESCRIPTION:Itinerary:\nArrival: 4/22 ~ between 2pm-4pm\n(If severe weather is threatening\, a go/no-go email will be sent to the Pack at Noon on 4/22) \nSaturday: Set up camp\, Explore the site\, Hike\, Set up for Dinner etc. \nSunday: 4/23 ~ 7am Pancake Breakfast and camp breakdown \nDeparture: 4/23 ~ between 9am – 10am \nCost:\nCost Per Camper: $10.00 \nDon’t Have a Tent? – For an additional $5/family the Pack can lend you a tent and\, if needed\, we will even set it up for you (Only 1 Pack tent is available – arrangements must be made in advance with Josh Comolli \nKOA also has a number of small cabins available for rent for an additional fee (arrangements can be made directly with KOA http://koa.com/campgrounds/philadelphia). \nPayment Methods: PayPal (balance or Credit Card)\, Cash\, Checks made payable to Pack 110\, or Scout Accounts \nCamping challenges scouts to “Be Prepared”. Here’s a quick list of essentials: \n\nTent\nSleeping Bags/pillows\nFlashlight\nRecommended:\n\nsleeping mat or air mattress\nsweatshirts or layers for the April chill\nsmall personal coolers for your tent are also nice in the event you need a drink in the middle of the night\nFishing poles\, a ball or frisbee are also ideas
URL:http://staging.cubpack110.com/event/spring-family-camping-koa/
LOCATION:Philadelphia / West Chester KOA\, 1659 Embreeville Road\, Coatesville\, PA\, 19320\, United States
CATEGORIES:Pack Events
ATTACH;FMTTYPE=image/jpeg:http://staging.cubpack110.com/wp-content/uploads/2015/04/postImage_2012_KOA-1.jpg
END:VEVENT
BEGIN:VEVENT
DTSTART;TZID=America/New_York:20170421T190000
DTEND;TZID=America/New_York:20170421T200000
DTSTAMP:20260421T200135
CREATED:20170331T163553Z
LAST-MODIFIED:20170331T163912Z
UID:3165-1492801200-1492804800@staging.cubpack110.com
SUMMARY:April Pack Meeting
DESCRIPTION:Camping season is upon us.  Lets get ready! \nWe will see you on Friday\, April 21st\, at 7:00 in the Hillsdale Gymnasium.
URL:http://staging.cubpack110.com/event/april-pack-meeting/
LOCATION:Hillsdale Elementary School\, 725 W. Market St.\, West Chester\, PA\, 19382\, United States
CATEGORIES:Pack Meetings
ATTACH;FMTTYPE=image/jpeg:http://staging.cubpack110.com/wp-content/uploads/2017/03/postImage_2017-April-Pack-Meeting.jpg
END:VEVENT
BEGIN:VEVENT
DTSTART;TZID=America/New_York:20170331T184500
DTEND;TZID=America/New_York:20170331T200000
DTSTAMP:20260421T200135
CREATED:20170302T235708Z
LAST-MODIFIED:20170330T154104Z
UID:3040-1490985900-1490990400@staging.cubpack110.com
SUMMARY:Cub Cake Bake
DESCRIPTION:It’s time for one of our FAVORITE Pack activities- the CUB CAKE BAKE\, Friday\, March 31st in the Hillsdale Gymnasium. \nIt should be a great\, messy time.  Please plan to arrive no later than 6:45 PM so you can get registered and be ready to start decorating. \nBelow you will find the rules as well as some other details regarding allergy information.  I know it is a lot of information\, but please read through so you have all the information needed. \n**** Since everyone will be busy working on their masterpieces\, no food will be for sale at this Pack Meeting. \nNow on to the Cake Bake Rules: \n\nThis is a Cub – Parent/Family/Mentor project.  If 2 or 3 Cubs and their partners want to coordinate with each other and work as a Team\, that is OK\, too.  They will just have to share the prize if they win.\nBaking will be done at home; Decorating must be done at Pack Meeting. Please decide on a theme and bring appropriate supplies. White\, butter cream frosting will be supplied (please bring your own food coloring if you want different colors).\nJust about any (appropriate) cake theme is welcome.\nNo store-bought cakes!\nCake mixes are fine.\nEntire creation must be edible\, including all decorations.\nPlease register your cake when you first arrive.\nCakes will be judged and prizes will be awarded in the following categories:\n\nMost Colorful\n3-dimensional\nMost Creative\nBest Looking\nMost Interesting\nMost Unusual\nCoolest\nBest Scout Theme\nJudges’ Choice\nScouts’ Choice\n\n\nYou are responsible for your work area and your cake.  Please remove all debris and clean your area prior leaving the Pack Meeting.  Floors and tables will be lined with plastic sheeting. If time allows\, after the judging\, several cakes will be selected\, via a drawing\, to be cut and shared with the Pack.  If you want to take your cake home intact\, please do not submit your cake for this drawing. Intact cakes may also be donated to the Salvation Army or West Chester Food Cupboard.  Any other cakes or cake remnants must be removed by their owners.\n\nIf you have any questions\, please contact Mr. Comolli. \nAllergies: \nTo be sure our kids are safe\, please bring a list of the ingredients used in your cake.\nFYI:  the Vanilla Icing provided has no major allergens in it. \nAdditionally here is a list of peanut free products: \nCake Mixes: \n\nDuncan Hines cake mixes – Devil’s Food\, Yellow\, Butter Recipe\, and Classic White\nBetty Crocker cake mixes – Devil’s Food\, Yellow\, Butter Recipe\, Golden Vanilla\, White\, Vanilla\, Chocolate\, and Party Rainbow Chip\nPillsbury cake mixes – Classic Yellow\, Devil’s Food\, and Chocolate\nShop Rite cake mixes – yellow\, Devil’s Food\, white\, butter recipe\nGiant – Butter yellow\, Devil’s Food\, White\n\nIcing: \n\nPillsbury icing – chocolate fudge\, vanilla\nBetty Crocker icing – Chocolate\, Vanilla\, milk chocolate\, creamy white\, all whipped varieties\nGiant icing – vanilla & chocolate fudge
URL:http://staging.cubpack110.com/event/2017-cake-bake/
LOCATION:Hillsdale Elementary School\, 725 W. Market St.\, West Chester\, PA\, 19382\, United States
CATEGORIES:Pack Meetings
ATTACH;FMTTYPE=image/jpeg:http://staging.cubpack110.com/wp-content/uploads/2015/08/postImage_20150327_Cakebake-300x292-1.jpg
END:VEVENT
BEGIN:VEVENT
DTSTART;TZID=America/New_York:20170311T190000
DTEND;TZID=America/New_York:20170312T080000
DTSTAMP:20260421T200135
CREATED:20170102T001058Z
LAST-MODIFIED:20170223T223815Z
UID:2346-1489258800-1489305600@staging.cubpack110.com
SUMMARY:Battleship NJ Encampment
DESCRIPTION:On Saturday\, March 11th Pack 110 will be staying overnight on the Battleship USS New Jersey in Camden. \nPayment of $62 per person is due by Wednesday\, Feb. 15. Checks should be made to Pack 110. We will be collecting money at the Pinewood Derby Pack Meeting. If for some reason you will not be at the pack meeting\, a check may be mailed to Mr. Comolli: 317 W. Union Street\, West Chester 19382. \nScout accounts may be used for the overnight. Account info will be available at the meeting. If you’d like to know your balance ahead of time\, please check with your Den Leader. \nPlease be sure the review the Battleship NJ Pre-Boarding Proceedures. \nAdditional information available on the Battleship NJ webite. \nQuestions? Please contact Mr. Comolli at cubmaster@nullcubpack110.illomoc.com
URL:http://staging.cubpack110.com/event/2017-battleship-nj-encampment/
LOCATION:Battleship New Jersey\, 62 BATTLESHIP PLACE\, Camden\, NJ\, 08103\, United States
CATEGORIES:Pack Events
ATTACH;FMTTYPE=image/jpeg:http://staging.cubpack110.com/wp-content/uploads/2017/01/postImage_battleship-NJ.jpg
ORGANIZER;CN="Josh Comolli":MAILTO:cubmaster@cubpack110.com
END:VEVENT
BEGIN:VEVENT
DTSTART;TZID=America/New_York:20170226T160000
DTEND;TZID=America/New_York:20170226T180000
DTSTAMP:20260421T200135
CREATED:20170219T180931Z
LAST-MODIFIED:20170219T181259Z
UID:2608-1488124800-1488132000@staging.cubpack110.com
SUMMARY:Blue & Gold Banquet 2017
DESCRIPTION:What is the Blue and Gold Banquet???\nOne of the most exciting events on the Cub Scout calendar! It is the annual celebration of our Pack\, our families\, our wonderful volunteers\, and of course\, our Cub Scouts! \nA delicious Dinner\, followed by some fun and excitement for all!\nFeaturing…. \n\nSkits performed by each Cub Den – a GREAT highlight of the night!\nEntertainment by “The Amazing Spaghetti” – A mix of cool magic\, plus ventriloquism and gags!\nArrow of Light Awards and our 5th Grade Webelos will “cross over” the bridge to Boy Scouts\n\n** A Sign Up Genius will be sent out soon! You will be able to sign up online and indicate your payment type at that time. \nPlease RSVP in advance so we can be sure to have enough food. \nPay Online!:
URL:http://staging.cubpack110.com/event/blue-gold-banquet-2017/
LOCATION:Silsby Room at Fame Fire Company\, 200 E Rosedale Ave\, West Chester\, PA\, 19382\, United States
CATEGORIES:Pack Meetings
ATTACH;FMTTYPE=image/jpeg:http://staging.cubpack110.com/wp-content/uploads/2015/08/postImage_20150222_Blue-Gold-1.jpg
END:VEVENT
BEGIN:VEVENT
DTSTART;TZID=America/New_York:20170120T183000
DTEND;TZID=America/New_York:20170120T203000
DTSTAMP:20260421T200135
CREATED:20170120T230059Z
LAST-MODIFIED:20170214T185903Z
UID:2343-1484937000-1484944200@staging.cubpack110.com
SUMMARY:Pinewood Derby
DESCRIPTION:The 2017 Pinewood Derby is quickly approaching (January 20th\, 2017) so it’s time to get those cars built.  If you still need your Pinewood Derby Kit\, please contact Mr. Comolli. \nHere are a few tips & reminders:\nPlease review the official rules as this will make the check-in which starts at 6:00 and closes at 6:45 go much smother – Pinewood Derby Rules & Tips. Scout cars must weigh no more than 5oz. fully constructed. \nIn addition to awards for the fastest cars\, awards will be given for the following other categories: \nCubs Choice\, Judges Choice\, Most Original\, Best Cub-Scout Theme\, Most Aerodynamic\, Most Patriotic \nSiblings and adults are welcomed and encouraged to build their own Pinewood Derby Cars for a special Open Races. Adult and sibling cars must fit the track dimensions as stated in the rules\, but may exceed the weight limit up to 10oz. The car must be made from the official pinewood derby kit block and have 3/8″ clearance so that it will run down the track\, almost anything else goes. \nMore information can be found on the Pinewood Derby Flyer and if you are looking for inspiration\, check out Boy’s Life’s 100 awesome pinewood derby cars of 2016. \nHungry? We will have pretzels and water for sale (please try to bring small bills if possible).
URL:http://staging.cubpack110.com/event/pinewood-derby/
LOCATION:Hillsdale Elementary School\, 725 W. Market St.\, West Chester\, PA\, 19382\, United States
CATEGORIES:Pack Meetings
ATTACH;FMTTYPE=image/jpeg:http://staging.cubpack110.com/wp-content/uploads/2017/01/postImage_2012_PinewoodDerby.jpg
END:VEVENT
END:VCALENDAR